BEGIN:VCALENDAR
VERSION:2.0
PRODID:-//eventon.com NONSGML v1.0//EN
CALSCALE:GREGORIAN
METHOD:PUBLISH
BEGIN:VEVENT
UID:69eb7cc8e9795
DTSTAMP:20260424T162304
DTSTART:20181011T193000Z
DTEND:20181011T210000Z
TZID:UTC
LOCATION:
SUMMARY:MR vergadering
DESCRIPTION: MR vergadering\nhttps://depinksterbloem.nl/events/mr-vergadering-6/
URL:https://depinksterbloem.nl/events/mr-vergadering-6/
END:VEVENT
END:VCALENDAR