BEGIN:VCALENDAR
VERSION:2.0
PRODID:-//eventon.com NONSGML v1.0//EN
CALSCALE:GREGORIAN
METHOD:PUBLISH
BEGIN:VEVENT
UID:69ebdff46edc6
DTSTAMP:20260424T232612
DTSTART:20190313T100000Z
DTEND:20190313T113000Z
TZID:UTC
LOCATION:
SUMMARY:OR vergadering
DESCRIPTION: OR vergadering\nhttps://depinksterbloem.nl/events/or-vergadering-7/
URL:https://depinksterbloem.nl/events/or-vergadering-7/
END:VEVENT
END:VCALENDAR