BEGIN:VCALENDAR
VERSION:2.0
PRODID:-//eventon.com NONSGML v1.0//EN
CALSCALE:GREGORIAN
METHOD:PUBLISH
BEGIN:VEVENT
UID:69e868a70a39f
DTSTAMP:20260422T082023
DTSTART:20200410
DTEND:20200411
TZID:UTC
LOCATION:
SUMMARY:Goede vrijdag
DESCRIPTION: Goede vrijdag\nhttps://depinksterbloem.nl/events/goede-vrijdag-3/
URL:https://depinksterbloem.nl/events/goede-vrijdag-3/
END:VEVENT
END:VCALENDAR